BEGIN:VCALENDAR
VERSION:2.0
BEGIN:VEVENT
DTSTART:20260526T163000Z
DTEND:20260526T173000Z
SUMMARY:Plainpalais Uni Mail
LOCATION:Uni Mail - Bd du Pont-d'Arve 40, 1205 Genève, 1205 Genève, Suisse
URL:https://levotedesjeunes.ch/?p=6049
END:VEVENT
END:VCALENDAR