BEGIN:VCALENDAR
VERSION:2.0
BEGIN:VEVENT
DTSTART:20260527T161500Z
DTEND:20260527T171500Z
SUMMARY:Saint-Jean
LOCATION:Maison de quartier de Saint-Jean – Chemin François-Furet 8, 1203 Genève, Suisse
URL:https://levotedesjeunes.ch/?p=6048
END:VEVENT
END:VCALENDAR