BEGIN:VCALENDAR
VERSION:2.0
BEGIN:VEVENT
DTSTART:20260528T163000Z
DTEND:20260528T173000Z
SUMMARY:Jonction Uni Sciences II
LOCATION:Bd D'Yvoy 7, 1205 Genève
URL:https://levotedesjeunes.ch/?p=6046
END:VEVENT
END:VCALENDAR