BEGIN:VCALENDAR
VERSION:2.0
BEGIN:VEVENT
DTSTART:20260526T220000Z
DTEND:20260526T230000Z
SUMMARY:Carouge
LOCATION:Ama-K Bro – Chemin de la Marbrerie 13, 1227 Carouge
URL:https://levotedesjeunes.ch/?p=6045
END:VEVENT
END:VCALENDAR