BEGIN:VCALENDAR
VERSION:2.0
BEGIN:VEVENT
DTSTART:20260603T181500Z
DTEND:20260603T191500Z
SUMMARY:Bernex
LOCATION:Salle Jura du Signal - Chemin du Signal 29, 1233 Bernex, Suisse
URL:https://levotedesjeunes.ch/?p=6044
END:VEVENT
END:VCALENDAR