BEGIN:VCALENDAR
VERSION:2.0
BEGIN:VEVENT
DTSTART:20260528T163000Z
DTEND:20260528T173000Z
SUMMARY:Bernex
LOCATION:Promenade du Décanat 7, 1233 Bernex
URL:https://levotedesjeunes.ch/?p=6043
END:VEVENT
END:VCALENDAR