BEGIN:VCALENDAR
VERSION:2.0
BEGIN:VEVENT
DTSTART:20260527T220000Z
DTEND:20260527T230000Z
SUMMARY:Veyrier
LOCATION:Av. du Grand-Salève 10, 1255 Veyrier
URL:https://levotedesjeunes.ch/?p=5934
END:VEVENT
END:VCALENDAR