BEGIN:VCALENDAR
VERSION:2.0
BEGIN:VEVENT
DTSTART:20260602T163000Z
DTEND:20260602T173000Z
SUMMARY:Vernier
LOCATION:Place du Lignon, Case Postale 16, 1219 Vernier, Switzerland
URL:https://levotedesjeunes.ch/?p=5927
END:VEVENT
END:VCALENDAR